BEGIN:VCALENDAR
VERSION:2.0
PRODID:-//Soziokulturelles Zentrum Treff - ECPv6.15.20//NONSGML v1.0//EN
CALSCALE:GREGORIAN
METHOD:PUBLISH
X-WR-CALNAME:Soziokulturelles Zentrum Treff
X-ORIGINAL-URL:https://skztreff.de
X-WR-CALDESC:Veranstaltungen für Soziokulturelles Zentrum Treff
REFRESH-INTERVAL;VALUE=DURATION:PT1H
X-Robots-Tag:noindex
X-PUBLISHED-TTL:PT1H
BEGIN:VTIMEZONE
TZID:UTC
BEGIN:STANDARD
TZOFFSETFROM:+0000
TZOFFSETTO:+0000
TZNAME:UTC
DTSTART:20240101T000000
END:STANDARD
END:VTIMEZONE
BEGIN:VEVENT
DTSTART;TZID=UTC:20250905T180000
DTEND;TZID=UTC:20250905T180000
DTSTAMP:20260421T165619
CREATED:20250604T100738Z
LAST-MODIFIED:20250604T100738Z
UID:1912-1757095200-1757095200@skztreff.de
SUMMARY:„Meine Abenteuerlichen Afrika-Reisen“ – Autorenlesung Patricia Dietrich
DESCRIPTION:Am 05.09.2025 um 18.00 Uhr begrüßen wir Patricia Dietrich bei uns im Treff. \nIn ihrem aktuellen Buch „Meine Abenteuerlichen Afrika-Reisen“ wendet sie sich nach zwei Kriminalromanen nun auch eigenen Erfahrungen auf Reisen zu.
URL:https://skztreff.de/veranstaltung/meine-abenteuerlichen-afrika-reisen-autorenlesung-patricia-dietrich/
LOCATION:Sachsen-Anhalt
ATTACH;FMTTYPE=image/jpeg:https://skztreff.de/wp-content/uploads/2025/06/IMG-20250529-WA00291-1-e1763723478921.jpg
END:VEVENT
END:VCALENDAR