BEGIN:VCALENDAR
VERSION:2.0
PRODID:-//Soziokulturelles Zentrum Treff - ECPv6.15.20//NONSGML v1.0//EN
CALSCALE:GREGORIAN
METHOD:PUBLISH
X-WR-CALNAME:Soziokulturelles Zentrum Treff
X-ORIGINAL-URL:https://skztreff.de
X-WR-CALDESC:Veranstaltungen für Soziokulturelles Zentrum Treff
REFRESH-INTERVAL;VALUE=DURATION:PT1H
X-Robots-Tag:noindex
X-PUBLISHED-TTL:PT1H
BEGIN:VTIMEZONE
TZID:UTC
BEGIN:STANDARD
TZOFFSETFROM:+0000
TZOFFSETTO:+0000
TZNAME:UTC
DTSTART:20240101T000000
END:STANDARD
END:VTIMEZONE
BEGIN:VEVENT
DTSTART;TZID=UTC:20250927T180000
DTEND;TZID=UTC:20250927T220000
DTSTAMP:20260421T165506
CREATED:20250902T120714Z
LAST-MODIFIED:20250925T144115Z
UID:1980-1758996000-1759010400@skztreff.de
SUMMARY:Gottes Vieh - Wegen Krankheit verschoben
DESCRIPTION:  \nDie Veranstaltung mit Gottes Vieh und Gute Frage muss aus Krankheitsgründen leider abgesagt gesagt.
URL:https://skztreff.de/veranstaltung/gottes-vieh/
LOCATION:Soziokulturelles Zentrum Treff\, Wilhelm-Hellge-Str. 3\, Schönebeck (Elbe)\, Sachsen-Anhalt\, 39218\, Germany
ATTACH;FMTTYPE=image/png:https://skztreff.de/wp-content/uploads/2025/09/Wegen-Krankheit-verschoben.png
END:VEVENT
END:VCALENDAR