BEGIN:VCALENDAR
VERSION:2.0
PRODID:-//Soziokulturelles Zentrum Treff - ECPv6.15.20//NONSGML v1.0//EN
CALSCALE:GREGORIAN
METHOD:PUBLISH
X-ORIGINAL-URL:https://skztreff.de
X-WR-CALDESC:Veranstaltungen für Soziokulturelles Zentrum Treff
REFRESH-INTERVAL;VALUE=DURATION:PT1H
X-Robots-Tag:noindex
X-PUBLISHED-TTL:PT1H
BEGIN:VTIMEZONE
TZID:UTC
BEGIN:STANDARD
TZOFFSETFROM:+0000
TZOFFSETTO:+0000
TZNAME:UTC
DTSTART:20240101T000000
END:STANDARD
END:VTIMEZONE
BEGIN:VEVENT
DTSTART;VALUE=DATE:20251018
DTEND;VALUE=DATE:20251212
DTSTAMP:20260421T132752
CREATED:20251017T094754Z
LAST-MODIFIED:20251017T123334Z
UID:2002-1760745600-1765497599@skztreff.de
SUMMARY:"Seerosen und Mehr" von Brigitte Otto
DESCRIPTION:Unter dem Titel „Seerosen und Mehr“ präsentiert Brigitte Otto ihre aktuelle Ausstellung bei uns im Soziokulturellen Zentrum Treff. Ihre Gemälde sind vorwiegend in Öl gemalte Portraits. Aber auch Blumen und Pflanzen können betrachtet werden. \nDie Vernissage findet am Samstag\, dem 18.10.25\, um 16 Uhr statt. Anschließend kann die Ausstellung bis zum 11.12.25 besichtigt werden.
URL:https://skztreff.de/veranstaltung/seerosen-und-mehr-von-brigitte-otto/
LOCATION:Soziokulturelles Zentrum Treff\, Wilhelm-Hellge-Str. 3\, Schönebeck (Elbe)\, Sachsen-Anhalt\, 39218\, Germany
CATEGORIES:Ausstellung
ATTACH;FMTTYPE=image/png:https://skztreff.de/wp-content/uploads/2025/10/Webseite-Otto.png
END:VEVENT
BEGIN:VEVENT
DTSTART;TZID=UTC:20251125T150000
DTEND;TZID=UTC:20251125T170000
DTSTAMP:20260421T132752
CREATED:20251017T114159Z
LAST-MODIFIED:20251017T125943Z
UID:2008-1764082800-1764090000@skztreff.de
SUMMARY:Bastelnachmittag mit der Bibliothek
DESCRIPTION:Es darf gebastelt werden! In Zusammenarbeit mit der Stadtbibliothek Schönebeck findet ein Bastelnachmittag in der Bibliothek statt. In der Zeit von 15-17 Uhr kann an verschiedenen Tischen auf die unterschiedlichste Weise der Kreativität freien Lauf gelassen werden. Die Bibliothek befindet sich am Am Stadtfeld 40 in Schönebeck.
URL:https://skztreff.de/veranstaltung/bastelnachmittag-mit-der-bibliothek/
LOCATION:Stadtbibliothek Schönebeck\, Am Stadtfeld 40\, Schönebeck\, 39218\, Germany
CATEGORIES:Projekt
ATTACH;FMTTYPE=image/jpeg:https://skztreff.de/wp-content/uploads/2025/10/Bastelnachmittag-25.11.2025.jpg
END:VEVENT
END:VCALENDAR