BEGIN:VCALENDAR
VERSION:2.0
PRODID:-//Soziokulturelles Zentrum Treff - ECPv6.15.20//NONSGML v1.0//EN
CALSCALE:GREGORIAN
METHOD:PUBLISH
X-WR-CALNAME:Soziokulturelles Zentrum Treff
X-ORIGINAL-URL:https://skztreff.de
X-WR-CALDESC:Veranstaltungen für Soziokulturelles Zentrum Treff
REFRESH-INTERVAL;VALUE=DURATION:PT1H
X-Robots-Tag:noindex
X-PUBLISHED-TTL:PT1H
BEGIN:VTIMEZONE
TZID:UTC
BEGIN:STANDARD
TZOFFSETFROM:+0000
TZOFFSETTO:+0000
TZNAME:UTC
DTSTART:20250101T000000
END:STANDARD
END:VTIMEZONE
BEGIN:VEVENT
DTSTART;TZID=UTC:20260306T163000
DTEND;TZID=UTC:20260306T173000
DTSTAMP:20260421T063027
CREATED:20260302T083501Z
LAST-MODIFIED:20260302T083501Z
UID:2302-1772814600-1772818200@skztreff.de
SUMMARY:Puppentheater "Pettersson und Findus"
DESCRIPTION:Das Puppentheater kommt wieder in den Treff. Herzliche Einladung an alle kleinen und großen Kinder zu „Pettersson und Findus“. 16.30 Uhr geht es los. Ab 16.00 Uhr erfolgt der Einlass. Karten für das Puppentheater können leider nicht vorbestellt werden.
URL:https://skztreff.de/veranstaltung/puppentheater-pettersson-und-findus/
LOCATION:Soziokulturelles Zentrum Treff\, Wilhelm-Hellge-Str. 3\, Schönebeck (Elbe)\, Sachsen-Anhalt\, 39218\, Germany
ATTACH;FMTTYPE=image/jpeg:https://skztreff.de/wp-content/uploads/2026/03/Werbung-Insta-Hochformat-Plakat.jpg
END:VEVENT
END:VCALENDAR