BEGIN:VCALENDAR
VERSION:2.0
PRODID:-//Soziokulturelles Zentrum Treff - ECPv6.15.20//NONSGML v1.0//EN
CALSCALE:GREGORIAN
METHOD:PUBLISH
X-ORIGINAL-URL:https://skztreff.de
X-WR-CALDESC:Veranstaltungen für Soziokulturelles Zentrum Treff
REFRESH-INTERVAL;VALUE=DURATION:PT1H
X-Robots-Tag:noindex
X-PUBLISHED-TTL:PT1H
BEGIN:VTIMEZONE
TZID:UTC
BEGIN:STANDARD
TZOFFSETFROM:+0000
TZOFFSETTO:+0000
TZNAME:UTC
DTSTART:20250101T000000
END:STANDARD
END:VTIMEZONE
BEGIN:VEVENT
DTSTART;TZID=UTC:20260307T110000
DTEND;TZID=UTC:20260307T130000
DTSTAMP:20260421T063323
CREATED:20260216T110545Z
LAST-MODIFIED:20260401T114303Z
UID:2279-1772881200-1772888400@skztreff.de
SUMMARY:Vernissage - Lebenswerke von Eva-Maria Heseler
DESCRIPTION:Zum 10. Todestag der Künstlerin Eva-Maria Heseler präsentieren wir die Ausstellung „Lebenswerke“ im Soziokulturellen Zentrum Treff. Zu betrachten sind Werke aus verschiedenen künstlerischen Schaffensperioden Heselers. Die feierliche Ausstellungseröffnung findet am Samstag\, dem 07.03.2026\, um 11 Uhr statt. Anschließend kann die Ausstellung bis zum 29.04.26 zu den Galerieöffnungszeiten oder aber\, nach telefonischer Absprache\, auch darüber hinaus besucht werden. Der Eintritt zur Vernissage und der Besuch der Ausstellung sind kostenfrei.
URL:https://skztreff.de/veranstaltung/vernissage-lebenswerke-von-eva-maria-heseler/
LOCATION:Sachsen-Anhalt
CATEGORIES:Vernissage
ATTACH;FMTTYPE=image/jpeg:https://skztreff.de/wp-content/uploads/2026/02/Eva-Maria-Heseler-PLAKAT-Vernissage.jpg
ORGANIZER;CN="Soziokulturelles Zentrum Treff":MAILTO:info@skztreff.de
END:VEVENT
END:VCALENDAR