BEGIN:VCALENDAR
VERSION:2.0
PRODID:-//Soziokulturelles Zentrum Treff - ECPv6.15.20//NONSGML v1.0//EN
CALSCALE:GREGORIAN
METHOD:PUBLISH
X-WR-CALNAME:Soziokulturelles Zentrum Treff
X-ORIGINAL-URL:https://skztreff.de
X-WR-CALDESC:Veranstaltungen für Soziokulturelles Zentrum Treff
REFRESH-INTERVAL;VALUE=DURATION:PT1H
X-Robots-Tag:noindex
X-PUBLISHED-TTL:PT1H
BEGIN:VTIMEZONE
TZID:UTC
BEGIN:STANDARD
TZOFFSETFROM:+0000
TZOFFSETTO:+0000
TZNAME:UTC
DTSTART:20250101T000000
END:STANDARD
END:VTIMEZONE
BEGIN:VEVENT
DTSTART;VALUE=DATE:20260309
DTEND;VALUE=DATE:20260430
DTSTAMP:20260421T045226
CREATED:20260402T113908Z
LAST-MODIFIED:20260402T113908Z
UID:2370-1773014400-1777507199@skztreff.de
SUMMARY:Ausstellung "Lebenswerke" von Eva-Maria Heseler
DESCRIPTION:Zum 10. Todestag der Künstlerin Eva-Maria Heseler präsentieren wir die Ausstellung „Lebenswerke“ im Soziokulturellen Zentrum Treff. Zu betrachten sind Werke aus verschiedenen künstlerischen Schaffensperioden Heselers. Die Ausstellung kann bis zum 29.04.26 zu den Galerieöffnungszeiten oder aber\, nach telefonischer Absprache\, auch darüber hinaus besucht werden. Der Eintritt zur Ausstellung ist frei.
URL:https://skztreff.de/veranstaltung/ausstellung-lebenswerke-von-eva-maria-heseler/
LOCATION:Soziokulturelles Zentrum Treff\, Wilhelm-Hellge-Str. 3\, Schönebeck (Elbe)\, Sachsen-Anhalt\, 39218\, Germany
CATEGORIES:Aktuelles,Ausstellung
ATTACH;FMTTYPE=image/jpeg:https://skztreff.de/wp-content/uploads/2026/04/Eva-Maria-Heseler-PLAKAT-Ausstellung-1.jpg
END:VEVENT
BEGIN:VEVENT
DTSTART;TZID=UTC:20260410T160000
DTEND;TZID=UTC:20260410T170000
DTSTAMP:20260421T045226
CREATED:20260401T120518Z
LAST-MODIFIED:20260402T113124Z
UID:2349-1775836800-1775840400@skztreff.de
SUMMARY:Live Puppentheater
DESCRIPTION:Das Puppentheater kommt wieder in den Treff. Herzliche Einladung an alle kleinen und großen Kinder zu einem Hundestarken Puppenspiel. 16.00 Uhr geht es los. Ab 15.30 Uhr erfolgt der Einlass. Karten für das Puppentheater können leider nicht vorbestellt werden.
URL:https://skztreff.de/veranstaltung/live-puppentheater/
LOCATION:Soziokulturelles Zentrum Treff\, Wilhelm-Hellge-Str. 3\, Schönebeck (Elbe)\, Sachsen-Anhalt\, 39218\, Germany
CATEGORIES:Aktuelles,Projekt
ATTACH;FMTTYPE=image/jpeg:https://skztreff.de/wp-content/uploads/2026/04/Puppentheater-Paw-Patrole.jpg
END:VEVENT
END:VCALENDAR