BEGIN:VCALENDAR
VERSION:2.0
PRODID:-//Soziokulturelles Zentrum Treff - ECPv6.15.20//NONSGML v1.0//EN
CALSCALE:GREGORIAN
METHOD:PUBLISH
X-ORIGINAL-URL:https://skztreff.de
X-WR-CALDESC:Veranstaltungen für Soziokulturelles Zentrum Treff
REFRESH-INTERVAL;VALUE=DURATION:PT1H
X-Robots-Tag:noindex
X-PUBLISHED-TTL:PT1H
BEGIN:VTIMEZONE
TZID:UTC
BEGIN:STANDARD
TZOFFSETFROM:+0000
TZOFFSETTO:+0000
TZNAME:UTC
DTSTART:20250101T000000
END:STANDARD
END:VTIMEZONE
BEGIN:VEVENT
DTSTART;TZID=UTC:20260106T150000
DTEND;TZID=UTC:20260106T170000
DTSTAMP:20260421T093647
CREATED:20250106T150017Z
LAST-MODIFIED:20251212T105523Z
UID:2094-1767711600-1767718800@skztreff.de
SUMMARY:Josefine Lemke - Willkommen 2026 - Die humorvolle Neujahrsshow
DESCRIPTION:Humoristin Josefine Lemke\, diesmal Solo unterwegs\, lässt zum Anfang des Jahres auf humoristische Weise die Korken knallen. Unter dem Motto „Alles wird gut – Nur nichts wird besser“ schlüpft sie in die Rolle der Erna Schmidtke-Hübenstein und fragt sich\, was wird aus den Vorsätzen für das neue Jahr? Ernstzunehmende Vorhaben oder doch eher verpuffende Luftschlösser? Oder vielleicht doch lieber das Horoskop befragen?\nDieser Nachmittag wird garantiert amüsant und unterhaltsam\, auch weil an die großartige Helga Hahnemann erinnert wird .\nGetreu dem Motto : Neues Jahr\, gleiches Ich! \nDie Veranstaltung findet am 06.01.2026 um 15.00 Uhr im Soziokulturellen Zentrum Treff\, in der Wilhelm-Hellge-Str. 3 in Schönebeck statt. Anmeldungen nehmen wir unter info@skztreff.de\, 03928-67522 oder 01525-3400340 entgegen.
URL:https://skztreff.de/veranstaltung/josefine-lemke-willkommen-2026-die-humorvolle-neujahrsshow/
LOCATION:Sachsen-Anhalt
CATEGORIES:Kleinkunst
ATTACH;FMTTYPE=image/jpeg:https://skztreff.de/wp-content/uploads/2025/11/Plakat_Josi_Lemke_2026-scaled-e1765537222413.jpg
END:VEVENT
END:VCALENDAR