BEGIN:VCALENDAR
VERSION:2.0
PRODID:-//Soziokulturelles Zentrum Treff - ECPv6.15.20//NONSGML v1.0//EN
CALSCALE:GREGORIAN
METHOD:PUBLISH
X-WR-CALNAME:Soziokulturelles Zentrum Treff
X-ORIGINAL-URL:https://skztreff.de
X-WR-CALDESC:Veranstaltungen für Soziokulturelles Zentrum Treff
REFRESH-INTERVAL;VALUE=DURATION:PT1H
X-Robots-Tag:noindex
X-PUBLISHED-TTL:PT1H
BEGIN:VTIMEZONE
TZID:UTC
BEGIN:STANDARD
TZOFFSETFROM:+0000
TZOFFSETTO:+0000
TZNAME:UTC
DTSTART:20250101T000000
END:STANDARD
END:VTIMEZONE
BEGIN:VEVENT
DTSTART;TZID=UTC:20260509T170000
DTEND;TZID=UTC:20260509T190000
DTSTAMP:20260421T044556
CREATED:20260402T113025Z
LAST-MODIFIED:20260402T113435Z
UID:2364-1778346000-1778353200@skztreff.de
SUMMARY:Vernissage Dorette Fabian
DESCRIPTION:Am 09.05.2026 um 17 Uhr wird die Ausstellung „Entdeckungsreise“ der Hobbykünstlerin Dorette Fabian feierlich eröffnet. Die Ausstellung kann bis zum 02.07.2026 zu den Galerieöffnungszeiten oder aber\, nach telefonischer Absprache\, auch darüber hinaus besucht werden. Der Eintritt zur Ausstellung ist frei.
URL:https://skztreff.de/veranstaltung/vernissage-dorette-fabian/
LOCATION:Soziokulturelles Zentrum Treff\, Wilhelm-Hellge-Str. 3\, Schönebeck (Elbe)\, Sachsen-Anhalt\, 39218\, Germany
CATEGORIES:Aktuelles,Vernissage
ATTACH;FMTTYPE=image/jpeg:https://skztreff.de/wp-content/uploads/2026/04/Plakat-Vernissage-Dorette-Fabian-scaled.jpg
END:VEVENT
END:VCALENDAR